BEGIN:VCALENDAR
VERSION:2.0
PRODID:-//www.marudot.com//iCal Event Maker
X-WR-TIMEZONE:America/New_York
BEGIN:VEVENT
DTSTAMP:20140124T181746Z
UID:20140124T181746Z-1414001874@marudot.com
DTSTART;TZID=America/New_York:20140205T113000
DTEND;TZID=America/New_York:20140205T130000
SUMMARY:Conférence Augustin Berque
DESCRIPTION:La mésologie\, pourquoi et pourquoi faire?
LOCATION:ULaval / DKN-5172
END:VEVENT
END:VCALENDAR