BEGIN:VCALENDAR
VERSION:2.0
PRODID:-//www.marudot.com//iCal Event Maker
X-WR-TIMEZONE:America/New_York
BEGIN:VEVENT
DTSTAMP:20140124T183200Z
UID:20140124T183200Z-1785648904@marudot.com
DTSTART;TZID=America/New_York:20140218T133000
DTEND;TZID=America/New_York:20140218T150000
SUMMARY:Conférence Augustin Berque
DESCRIPTION:La rizière et la banquise : naissance d’un milieu rural à Hokkaidô
LOCATION:UQAC\, pavillon Desjardins\, local HO-1070
END:VEVENT
END:VCALENDAR