BEGIN:VCALENDAR
VERSION:2.0
PRODID:-//www.marudot.com//iCal Event Maker
X-WR-TIMEZONE:America/New_York
BEGIN:VEVENT
DTSTAMP:20140128T144103Z
UID:20140128T144103Z-2016003374@marudot.com
DTSTART;TZID=America/New_York:20140213T123000
DTEND;TZID=America/New_York:20140213T143000
SUMMARY:Conférence Augustin Berque
DESCRIPTION:Terre\, monde\, milieu : une perspective mésologique
LOCATION:UQAM\, Local A-4180
END:VEVENT
END:VCALENDAR