BEGIN:VCALENDAR
VERSION:2.0
PRODID:-//www.marudot.com//iCal Event Maker
X-WR-TIMEZONE:America/New_York
BEGIN:VEVENT
DTSTAMP:20140205T155838Z
UID:20140205T155838Z-615103103@marudot.com
DTSTART;TZID=America/New_York:20140212T113000
DTEND;TZID=America/New_York:20140212T130000
SUMMARY:Conférence Sylvie Bodineau
DESCRIPTION:Protection des enfants soldats en RDC 
LOCATION:UL\, DKN-5172
END:VEVENT
END:VCALENDAR