BEGIN:VCALENDAR
VERSION:2.0
PRODID:-//www.marudot.com//iCal Event Maker
X-WR-TIMEZONE:America/New_York
BEGIN:VEVENT
DTSTAMP:20140205T163418Z
UID:20140205T163418Z-1538287175@marudot.com
DTSTART;TZID=America/New_York:20140218T180000
DTEND;TZID=America/New_York:20140218T200000
SUMMARY:Lancement du livre "Je me souviens?"
DESCRIPTION:Lancement du livre de Jocelyn Létourneau suivi de la remise de la médaille Luc-Lacourcière
LOCATION:Musée de la Civilisation\, Québec
END:VEVENT
END:VCALENDAR