BEGIN:VCALENDAR
VERSION:2.0
PRODID:-//www.marudot.com//iCal Event Maker
X-WR-TIMEZONE:America/New_York
BEGIN:VEVENT
DTSTAMP:20140311T200629Z
UID:20140311T200629Z-352183676@marudot.com
DTSTART;TZID=America/New_York:20140321T113000
DTEND;TZID=America/New_York:20140321T130000
SUMMARY:Conférence Olivier Leservoisier
DESCRIPTION:Enjeux sociopolitiques des réformes de démocratisation et de décentralisation en Mauritanie
LOCATION:UL\, DKN-5172
END:VEVENT
END:VCALENDAR