BEGIN:VCALENDAR
VERSION:2.0
PRODID:-//www.marudot.com//iCal Event Maker
X-WR-TIMEZONE:America/New_York
BEGIN:VEVENT
DTSTAMP:20140505T201341Z
UID:20140505T201341Z-767031504@marudot.com
DTSTART;TZID=America/New_York:20140516T123000
DTEND;TZID=America/New_York:20140516T140000
SUMMARY:Conférence-causerie Cátia Rodrigues Barbosa
DESCRIPTION:L'univers des musées : les objets Phares
LOCATION:Salle DC-2300\, UQAM
END:VEVENT
END:VCALENDAR