BEGIN:VCALENDAR
VERSION:2.0
PRODID:-//www.marudot.com//iCal Event Maker
X-WR-TIMEZONE:America/New_York
BEGIN:VEVENT
DTSTAMP:20140619T195533Z
UID:20140619T195533Z-1149054914@marudot.com
DTSTART;TZID=America/New_York:20140620T123000
DTEND;TZID=America/New_York:20140620T140000
SUMMARY:Conférence d'Alexandre Paulin
DESCRIPTION:La dépense improductive comme stratégie de résistance en art actuel : une analyse critique d’œuvres de Michel de Broin\, Thomas Hirschhorn et Santiago Sierra
LOCATION:DC-2300
END:VEVENT
END:VCALENDAR