BEGIN:VCALENDAR
VERSION:2.0
PRODID:-//www.marudot.com//iCal Event Maker
X-WR-TIMEZONE:America/New_York
BEGIN:VEVENT
DTSTAMP:20140826T200034Z
UID:20140826T200034Z-272905861@marudot.com
DTSTART;TZID=America/New_York:20140911T123000
DTEND;TZID=America/New_York:20140911T140000
SUMMARY:Midi-causerie avec Juan Carlos Pita Castro
DESCRIPTION:Devenir "artiste": significations et épreuves\, ressorts et pesanteurs
LOCATION:UQAM\, local DC-2300
END:VEVENT
END:VCALENDAR