BEGIN:VCALENDAR
VERSION:2.0
PRODID:-//www.marudot.com//iCal Event Maker
CALSCALE:GREGORIAN
BEGIN:VTIMEZONE
TZID:America/New_York
TZURL:http://tzurl.org/zoneinfo-outlook/America/New_York
X-LIC-LOCATION:America/New_York
BEGIN:DAYLIGHT
TZOFFSETFROM:-0500
TZOFFSETTO:-0400
TZNAME:EDT
DTSTART:19700308T020000
RRULE:FREQ=YEARLY;BYMONTH=3;BYDAY=2SU
END:DAYLIGHT
BEGIN:STANDARD
TZOFFSETFROM:-0400
TZOFFSETTO:-0500
TZNAME:EST
DTSTART:19701101T020000
RRULE:FREQ=YEARLY;BYMONTH=11;BYDAY=1SU
END:STANDARD
END:VTIMEZONE
BEGIN:VEVENT
DTSTAMP:20141119T150256Z
UID:20141119T150256Z-273360672@marudot.com
DTSTART;TZID="America/New_York":20141205T170000
DTEND;TZID="America/New_York":20141205T183000
SUMMARY:Conférence-causerie Lilah Nethanel
DESCRIPTION:L'invention de la littérature hébraïque à la fin du XIXe siècle : comment produire des œuvres populaires dans une langue non-parlée 
LOCATION:CÉLAT-UQAM\, DC-2300
END:VEVENT
END:VCALENDAR