BEGIN:VCALENDAR
VERSION:2.0
PRODID:-//www.marudot.com//iCal Event Maker
CALSCALE:GREGORIAN
BEGIN:VTIMEZONE
TZID:America/Havana
TZURL:http://tzurl.org/zoneinfo-outlook/America/Havana
X-LIC-LOCATION:America/Havana
BEGIN:STANDARD
TZOFFSETFROM:-0400
TZOFFSETTO:-0500
TZNAME:CST
DTSTART:19701101T010000
RRULE:FREQ=YEARLY;BYMONTH=11;BYDAY=1SU
END:STANDARD
BEGIN:DAYLIGHT
TZOFFSETFROM:-0500
TZOFFSETTO:-0400
TZNAME:CDT
DTSTART:19700308T000000
RRULE:FREQ=YEARLY;BYMONTH=3;BYDAY=2SU
END:DAYLIGHT
END:VTIMEZONE
BEGIN:VEVENT
DTSTAMP:20160914T141125Z
UID:20160914T141125Z-96646643@marudot.com
DTSTART;TZID="America/Havana":20160922T150000
DTEND;TZID="America/Havana":20160922T170000
SUMMARY:Conférence Helga Bories-Sawala
DESCRIPTION:Je me souviens…de l’histoire des Autochtones. Le rôle des Premiers peuples dans la consience historique d’élèves québécois
LOCATION:UL\, DKN-3244
END:VEVENT
END:VCALENDAR