BEGIN:VCALENDAR
VERSION:2.0
PRODID:-//www.marudot.com//iCal Event Maker
CALSCALE:GREGORIAN
BEGIN:VTIMEZONE
TZID:America/Havana
TZURL:http://tzurl.org/zoneinfo-outlook/America/Havana
X-LIC-LOCATION:America/Havana
BEGIN:STANDARD
TZOFFSETFROM:-0400
TZOFFSETTO:-0500
TZNAME:CST
DTSTART:19701101T010000
RRULE:FREQ=YEARLY;BYMONTH=11;BYDAY=1SU
END:STANDARD
BEGIN:DAYLIGHT
TZOFFSETFROM:-0500
TZOFFSETTO:-0400
TZNAME:CDT
DTSTART:19700308T000000
RRULE:FREQ=YEARLY;BYMONTH=3;BYDAY=2SU
END:DAYLIGHT
END:VTIMEZONE
BEGIN:VEVENT
DTSTAMP:20161103T142738Z
UID:20161103T142738Z-141918817@marudot.com
DTSTART;TZID="America/Havana":20161108T113000
DTEND;TZID="America/Havana":20161108T130000
SUMMARY:Conférence Paola Tubaro
DESCRIPTION:Le phénomène "pro ana" : Troubles alimentaires et réseaux sociaux
LOCATION:CÉLAT-UL\, DKN-5172
END:VEVENT
BEGIN:VEVENT
DTSTAMP:20161103T142738Z
UID:20161103T142738Z-683294787@marudot.com
DTSTART;TZID="America/Havana":20161109T142000
DTEND;TZID="America/Havana":20161109T154500
SUMMARY:Conférence Aurélie Campana
DESCRIPTION:Terrorismes et radicalisations
LOCATION:UQAC - H1-1110
END:VEVENT
END:VCALENDAR